BEGIN:VCALENDAR
VERSION:2.0
METHOD:PUBLISH
BEGIN:VEVENT
UID:WILD_APRICOT_EVENT_2894167_SESSION_1
DTSTART:20190314T220000Z
DTEND:20190316T053000Z
SUMMARY:Hearing in Noise
LOCATION:Mantra Mooloolaba\, Sunshine Coast\, Queensland
DESCRIPTION:https://independentaudiologists.net.au/event-2894167\n\n15-16 March 2019\n Mantra Mooloolaba\nConvenor: Dr Tegan Keogh\n  \n\n  Hearing in Noise\n\n  An investigation of hearing in noise and how those with and without hearing loss can benefit from multidisciplinary interventions including building planning\, public awareness\, skills development and understanding of the impact of noise on effective communication.\n  Through bringing together international and local experts\, this seminar will address the most frequently experienced communication difficulty - that is hearing in noisy situations.\n\n  All welcome.\n\n  CPD- Endorsed by Audiology Australia for 10.75 CPD Points\n\n  Audiology Australia CPD 1819 053\n  Friday: 5.25 Category 1 points and 0.75 Category 2 points\n Saturday 3.5 Category 1 points and 2 Category 2 points\n  10 hours 45 minutes will be allocated to full members of IAA who will receive a certificate of participation in IAA seminars at the end of the financial year.\n  You must sign the attendance register and complete the evaluation and assessment forms and mark both with your name and Audiology Australia number before leaving the seminar.\n\n  Attending Online\n\n  In addition to the evaluation and assessment forms\, you will be required to complete a multiple choice quiz in order for endorsed points to be assigned to you.\n  Full details will be available during the seminar.\n\n  Presenters\n  Prof David McAlpine\, Macquarie University read more here\n Prof Nancy Tye-Murray\, clEAR\, Washington University\, St Louis\n Dr Brent Spehar\, clEAR\, Washington University\, St Louis\n Dr Brent Edwards\, NAL\n Dr Libby Sander\, Bond University\n Dr Kiri Mealings\, NAL\n Tony Whelan\, Better Hearing Australia\n Stephen Gauld\, Association of Australasian Acoustical Consultants\n  Speaker Biographies\n\n  Programme Highlights\n  How we hear in noise with and without hearing loss\n Hearing at work\n Classrooms and hearing\n Consumer experience of restaurant noise\n Rehabilitation for difficulty hearing in noise\n  Full Programme\n  Abstracts\n\n  Registrations\n\nAll registrations close on 22 February 2019.  Special pricing for subscribers and full members (including representatives of full members)\nDownload seminar fees here\n  \n\n  Accommodation - book early\n  The Mooloolaba Triathlon Festival takes place on 15 - 17 March.\n Consider joining the Triathlon and attending the seminar....but make sure you book flights and accommodation EARLY to avoid disappointment.\n\n  Mantra Mooloolaba offers seminar delegates 10% off the best available price when booked from their website. \n  Promotional code IAA2019\n\n  Book accommodation at Mantra Mooloolaba\n\n  Alternative Accommodation Suggestions\n  Walking distance to the seminar venue\n\n  The Mantra Sirocco\n Raffles Mooloolaba\n Sandcastles Mooloolaba\n Nautilus Mooloolaba\n Breakfree Alexandra Headlands\n  Maroochydore Accommodation (5 minutes drive away)\n\n The Sebel Maroochydore\n Space Holiday Apartments\n \n\n  \n\n  Major Sponsors - offering presentations and trade displays\n\n  \n  \n\n  \n\n  Trade Display Sponsor\n  \n\n  \n\n  \n\n  Enquiries\n  Dr Louise Collingridge   exec@independentaudiologists.net.au\n Tel: 0424 720 915.\n\n
DTSTAMP:20260424T164520Z
END:VEVENT
END:VCALENDAR
